BEGIN:VCALENDAR
VERSION:2.0
PRODID:https://github.com/derhansen/sf_event_mgt
METHOD:PUBLISH
BEGIN:VEVENT
UID:131-239@www.fraueninteressen.de
CLASS: PUBLIC
SUMMARY:Mitgliederversammlung 2026
DESCRIPTION:Nähere Informationen folgen.
LOCATION:Verein für Fraueninteressen
DTSTAMP:20260305T211018Z
DTSTART:20260716T180000Z
DTEND:20260716T200000Z
END:VEVENT
END:VCALENDAR
